BEGIN:VCALENDAR
VERSION:2.0
PRODID:Imitheme.com 
BEGIN:VEVENT
UID:20260420T132111807232560
DTSTAMP;TZID=UTC:2026-04-20 13:21:11
DTSTART;TZID=America/New_York:20260424T000000
DTEND;TZID=America/New_York:20260424T000000
SUMMARY:Rising to Meet the Challenge
LOCATION:Fayette Senior Center
DESCRIPTION:Navigating life as a newly single person in later years can be daunting, but you\'re not alone in the journey. Join this monthly discussion group where we share real-world solutions and helpful resources for managing the everyday challenges of living solo. Whether it’s tackling home repairs, meal planning, or navigating new technology, we learn from each other’s experiences and support one another along the way. Each session is a chance to connect, share advice, and discover new strategies for living life to the fullest. Whether you’ve been on your own for a while or are just starting to navigate this new chapter, all are welcome to join the conversation. This is a self-led discussion group that will be guided by Marilyn Weigle.
URL:https://fayss.org/eventer/rising-to-meet-the-challenge/
END:VEVENT
END:VCALENDAR
