BEGIN:VCALENDAR
VERSION:2.0
PRODID:Imitheme.com 
BEGIN:VEVENT
UID:20260420T1307571387736003
DTSTAMP;TZID=UTC:2026-04-20 13:07:57
DTSTART;TZID=America/New_York:20260424T000000
DTEND;TZID=America/New_York:20260424T000000
SUMMARY:Movie Day
LOCATION:Fayette Senior Center
DESCRIPTION:Showing The Swedish Connection (2026) | PG-13
URL:https://fayss.org/eventer/movie-day-3/
END:VEVENT
END:VCALENDAR
