BEGIN:VCALENDAR
VERSION:2.0
PRODID:Imitheme.com 
BEGIN:VEVENT
UID:20260420T1322062117761194
DTSTAMP;TZID=UTC:2026-04-20 13:22:06
DTSTART;TZID=America/New_York:20260424T000000
DTEND;TZID=America/New_York:20260424T000000
SUMMARY:Golden Years, Brighter Days
LOCATION:Peachtree City Gathering Place
DESCRIPTION:The golden years should be a time of joy and fulfillment, not weighed down by stress or feelings of disconnection. Sophia Gethers, CEO and Life Coach with The Freedom Zone, provides easy-to-follow strategies to help you reduce anxiety and overcome the solitude that can sometimes accompany this stage of life. Learn simple yet effective ways to boost your motivation, cultivate a more positive mindset, and find moments of happiness in your everyday routine. Take part in interactive activities and discussion that promote both physical and emotional well-being as you discover new ways to stay active, engaged, and connected. It’s all about embracing this chapter with confidence, energy, and a brighter outlook!
URL:https://fayss.org/eventer/golden-years-brighter-days/
END:VEVENT
END:VCALENDAR
