BEGIN:VCALENDAR
VERSION:2.0
PRODID:Imitheme.com 
BEGIN:VEVENT
UID:20260420T130446821231161
DTSTAMP;TZID=UTC:2026-04-20 13:04:46
DTSTART;TZID=America/New_York:20260424T000000
DTEND;TZID=America/New_York:20260424T000000
SUMMARY:Just Shred It Shredding Services
LOCATION:Peachtree City Gathering Place
DESCRIPTION:Fayette Senior Services will host an on-site shredding event with a professional shredding truck from A1 Shredding to securely handle your document disposal needs. Bring your papers to be shredded and enjoy the convenience of taking care of this task at a familiar, trusted location. For privacy and security, FSS staff will not handle any documents; each participant will take their items directly to the shredding truck. The cost for this event is $5 per person for up to 10 file-sized boxes, with an additional fee for quantities exceeding 10 boxes.
URL:https://fayss.org/eventer/just-shred-it-shredding-services/
END:VEVENT
END:VCALENDAR
