BEGIN:VCALENDAR
VERSION:2.0
PRODID:Imitheme.com 
BEGIN:VEVENT
UID:20260420T132033586506250
DTSTAMP;TZID=UTC:2026-04-20 13:20:33
DTSTART;TZID=America/New_York:20260427T000000
DTEND;TZID=America/New_York:20260427T000000
SUMMARY:Sing It Loud, Sing It Proud Karaoke
LOCATION:Fayette Senior Center
DESCRIPTION:Just because you can’t sing doesn’t mean you shouldn’t…and if you can, even better! Warm up those vocal cords for an afternoon of karaoke. Karaoke gurus Vince and Carla Cloud will keep the energy high and the fun nonstop as they guide us through an interactive, memorable singalong experience. It’s an afternoon you’ll be talking about - or better yet, singing about - for days to come!
URL:https://fayss.org/eventer/sing-it-loud-sing-it-proud-karaoke-2/
END:VEVENT
END:VCALENDAR
