BEGIN:VCALENDAR
VERSION:2.0
PRODID:Imitheme.com 
BEGIN:VEVENT
UID:20260422T063321443568251
DTSTAMP;TZID=UTC:2026-04-22 06:33:21
DTSTART;TZID=America/New_York:20260427T000000
DTEND;TZID=America/New_York:20260427T000000
SUMMARY:Creative Sparks Fly
LOCATION:Peachtree City Gathering Place
DESCRIPTION:Everyone has a story worth telling, yours is just waiting to be written! Join self-published author Jim Scott for a discussion designed to help you find your voice and bring your stories to life. Get a big-picture look at the process of creative writing and how imagination, memory, and personal experience can be shaped into meaningful stories. Jim will provide guidance, creative encouragement, and the confidence to spark ideas, unlock creativity and remind you it’s never too late to tell your story. Whether you’re looking for a creative outlet, a way to preserve your memories, or taking the first step toward publication, leave feeling inspired to start telling your story with clarity, imagination, and heart.
URL:https://fayss.org/eventer/creative-sparks-fly/
END:VEVENT
END:VCALENDAR
