BEGIN:VCALENDAR
VERSION:2.0
PRODID:Imitheme.com 
BEGIN:VEVENT
UID:20260420T1323091466038007
DTSTAMP;TZID=UTC:2026-04-20 13:23:09
DTSTART;TZID=America/New_York:20260427T000000
DTEND;TZID=America/New_York:20260427T000000
SUMMARY:Crochet The Year of Stitches
LOCATION:Fayette Senior Center
DESCRIPTION:Explore various crochet stitches throughout the year. This month, learn about the shell pattern. Materials needed Small amount of acrylic yarn (solid colors but not dark colors); size H crochet hook. Contact Nancy at icrochet2@bellsouth.net with questions.
URL:https://fayss.org/eventer/crochet-the-year-of-stitches/
END:VEVENT
END:VCALENDAR
