BEGIN:VCALENDAR
VERSION:2.0
PRODID:Imitheme.com 
BEGIN:VEVENT
UID:20260420T143009271951575
DTSTAMP;TZID=UTC:2026-04-20 14:30:09
DTSTART;TZID=America/New_York:20260428T000000
DTEND;TZID=America/New_York:20260428T000000
SUMMARY:Computer Technology Assistance
LOCATION:Fayette Senior Center
DESCRIPTION:Bring in your laptop and questions about your computer for 1-on-1 assistance. Lance Collins with PTC Techs will assist with computer technology troubleshooting, removal of unwanted programs, antivirus prevention, and general questions. This is not a computer tutor class.
URL:https://fayss.org/eventer/computer-technology-assistance/
END:VEVENT
END:VCALENDAR
