BEGIN:VCALENDAR
VERSION:2.0
PRODID:Imitheme.com 
BEGIN:VEVENT
UID:20260420T130436449544403
DTSTAMP;TZID=UTC:2026-04-20 13:04:36
DTSTART;TZID=America/New_York:20260428T000000
DTEND;TZID=America/New_York:20260428T000000
SUMMARY:Painting Workshop
LOCATION:Fayette Senior Center
DESCRIPTION:Paint a picture by following along step-by-step with the instructor – you’ll be surprised by what you’re capable of! See the front desk for a sample picture. This month, paint a beautiful bouquet of spring flowers.
URL:https://fayss.org/eventer/painting-workshop/
END:VEVENT
END:VCALENDAR
