BEGIN:VCALENDAR
VERSION:2.0
PRODID:Imitheme.com 
BEGIN:VEVENT
UID:20260422T063348118395438
DTSTAMP;TZID=UTC:2026-04-22 06:33:48
DTSTART;TZID=America/New_York:20260429T000000
DTEND;TZID=America/New_York:20260429T000000
SUMMARY:Senior Moments
LOCATION:Fayette Senior Center
DESCRIPTION:We all kid about our “senior moments,\" those times we can’t recall something familiar or losing our car keys for the third time this week. But how do we know when it’s more than just a momentary lapse? Some cognitive slow-down is to be expected as we age, but what’s normal and what’s not? Dr. Alfonso Martinez from The Neuropsychology Center will be here to help us distinguish between a “senior moment” and the early signs of more serious memory issues. Discover practical tips on when to seek professional help and what steps we can take to protect our brain health at every age.
URL:https://fayss.org/eventer/senior-moments/
END:VEVENT
END:VCALENDAR
