BEGIN:VCALENDAR
VERSION:2.0
PRODID:Imitheme.com 
BEGIN:VEVENT
UID:20260422T0546471495235552
DTSTAMP;TZID=UTC:2026-04-22 05:46:47
DTSTART;TZID=America/New_York:20260429T000000
DTEND;TZID=America/New_York:20260429T000000
SUMMARY:Quilting Day UFO
LOCATION:Fayette Senior Center
DESCRIPTION:Take time to finish up projects. Search your quilt area and grab your oldest UFO to get it finished. This class is not instruction based, just free time to work on a personal project with others. Must provide your own sewing machine. Some quilting experience required, not for beginners.
URL:https://fayss.org/eventer/quilting-day-ufo/
END:VEVENT
END:VCALENDAR
