BEGIN:VCALENDAR
VERSION:2.0
PRODID:Imitheme.com 
BEGIN:VEVENT
UID:20260422T063527405978219
DTSTAMP;TZID=UTC:2026-04-22 06:35:27
DTSTART;TZID=America/New_York:20260420T000000
DTEND;TZID=America/New_York:20260420T000000
SUMMARY:Exploring Trilith
LOCATION:Fayette Senior Center
DESCRIPTION:Step behind the scenes and explore the creative world of Trilith! Kade Smith, Experience Coordinator with the Trilith Foundation, takes you on a virtual tour filled with the latest updates, happenings, and insider insights from this dynamic creative community. Discover how art, film, and innovation come together to shape Trilith’s unique environment. From cutting-edge projects to community initiatives, see what makes Trilith a hub of creativity and collaboration. Whether you’re curious about film, design, or the arts, this tour offers an engaging glimpse into a world where imagination meets opportunity. Get ready to experience Trilith like never before!
URL:https://fayss.org/eventer/exploring-trilith/
END:VEVENT
END:VCALENDAR
