BEGIN:VCALENDAR
VERSION:2.0
PRODID:Imitheme.com 
BEGIN:VEVENT
UID:20260420T125738846732946
DTSTAMP;TZID=UTC:2026-04-20 12:57:38
DTSTART;TZID=America/New_York:20260422T000000
DTEND;TZID=America/New_York:20260422T000000
SUMMARY:Quilting Country Starlight
LOCATION:Fayette Senior Center
DESCRIPTION:Grace your home with this lovely quilt for your table or perfect for a wall hanging. The quilt is created with half square triangles and squares. Must provide your own sewing machine. Some quilting experience required, not for beginners.
URL:https://fayss.org/eventer/quilting-country-starlight/
END:VEVENT
END:VCALENDAR
