BEGIN:VCALENDAR
VERSION:2.0
PRODID:Imitheme.com 
BEGIN:VEVENT
UID:20260422T0636591880671855
DTSTAMP;TZID=UTC:2026-04-22 06:36:59
DTSTART;TZID=America/New_York:20260423T000000
DTEND;TZID=America/New_York:20260423T000000
SUMMARY:Learning From Living
LOCATION:Fayette Senior Center
DESCRIPTION:You can’t change the past, but you can learn from it. As we reach our senior years, setting your own personal guidelines for how you want to live your life can create comfort. You’ve lived a number of years, what have you discovered about yourself? How have you developed? How has the past influenced your decisions? Join retired psychologist Dr. James Hughey for individual conferences and introspective conversation as he assists you with digging into your past in order to look to your future in constructing a guideline that works for your current life stage.
URL:https://fayss.org/eventer/learning-from-living/
END:VEVENT
END:VCALENDAR
