BEGIN:VCALENDAR
VERSION:2.0
PRODID:Imitheme.com 
BEGIN:VEVENT
UID:20260422T063449604665431
DTSTAMP;TZID=UTC:2026-04-22 06:34:49
DTSTART;TZID=America/New_York:20260423T000000
DTEND;TZID=America/New_York:20260423T000000
SUMMARY:P“age” Turners Book Club
LOCATION:Fayette Senior Center
DESCRIPTION:For more information, please contact Heidi Williams at jmwhome8332@gmail.com.
URL:https://fayss.org/eventer/page-turners-book-club-4/
END:VEVENT
END:VCALENDAR
