BEGIN:VCALENDAR
VERSION:2.0
PRODID:Imitheme.com 
BEGIN:VEVENT
UID:20260421T0752381319558298
DTSTAMP;TZID=UTC:2026-04-21 07:52:38
DTSTART;TZID=America/New_York:20260423T000000
DTEND;TZID=America/New_York:20260423T000000
SUMMARY:Car Wash
LOCATION:Peachtree City Gathering Place
DESCRIPTION:Splish, splash—your car is getting a bath! Hector Antonio from Roll N’ Shine will be on-site to give your vehicle a fresh, clean shine inside and out while you relax comfortably in FSS. Enjoy the convenience of a professional wash without ever leaving the building. Please note that Roll N’ Shine reserves the right to decline service for excessively dirty interiors. Give your car the care it deserves with this effortless, on-the-spot service!
URL:https://fayss.org/eventer/car-wash-2/
END:VEVENT
END:VCALENDAR
