BEGIN:VCALENDAR
VERSION:2.0
PRODID:Imitheme.com 
BEGIN:VEVENT
UID:20260422T06360724715121
DTSTAMP;TZID=UTC:2026-04-22 06:36:07
DTSTART;TZID=America/New_York:20260430T000000
DTEND;TZID=America/New_York:20260430T000000
SUMMARY:The Thriving Plate
LOCATION:Fayette Senior Center
DESCRIPTION:Experience the power of food to fuel your vitality and longevity! Join Natural Health Coach Cynthia Terrell from Wholistic Strength for simple, whole-food strategies to boost strength, energy, and overall well-being. Explore anti-inflammatory foods and spices that promote joint health and improve digestion, and learn an easy meal-building framework to keep your energy steady all day long. Plus, discover hydration tips that will leave you feeling refreshed and vibrant. Walk away with practical tools to nourish your body and feel your best every day!
URL:https://fayss.org/eventer/the-thriving-plate/
END:VEVENT
END:VCALENDAR
