BEGIN:VCALENDAR
VERSION:2.0
PRODID:Imitheme.com 
BEGIN:VEVENT
UID:20260420T0520092029190531
DTSTAMP;TZID=UTC:2026-04-20 05:20:09
DTSTART;TZID=America/New_York:20260113T000000
DTEND;TZID=America/New_York:20260113T000000
SUMMARY:Balance It Out Balance Assessments
LOCATION:Fayette Senior Center
DESCRIPTION:Join Matt Winters from PT Solutions Physical Therapy as he performs a series of simple, guided tasks to determine balance and stability. Matt will help you uncover your strengths and identify areas where your balance could use a boost, giving you insight into your risk of falls. Once the assessment is complete, he will walk you through your results and offer personalized tips and strategies to help you improve stability and move with confidence. This hands-on, interactive opportunity will help you take charge of your balance, learn practical ways to stay steady on your feet, and leave feeling empowered and informed. Don’t miss this chance to prioritize your health and step into greater confidence!
URL:https://fayss.org/?post_type=eventer&p=6847
END:VEVENT
END:VCALENDAR
