BEGIN:VCALENDAR
VERSION:2.0
PRODID:Imitheme.com 
BEGIN:VEVENT
UID:20260421T0432181379197094
DTSTAMP;TZID=UTC:2026-04-21 04:32:18
DTSTART;TZID=America/New_York:20260311T000000
DTEND;TZID=America/New_York:20260311T000000
SUMMARY:Gotta Hand It To You Hand Massages
LOCATION:Fayette Senior Center
DESCRIPTION:Sit back and relax as certified massage therapist Ange Maihorn provides a focused hand and arm massage. This human hand connection will not only help relieve tension and stress, but will concentrate on muscle and lymphatic areas in your arm and on your hand. Research has shown that there are many health benefits to massages, and hand massage is no exception. Having this done not only feels great, but can help ease muscle tension, relieve stress, and reduce pain. Enjoy a 15-minute session and see the results for yourself!
URL:https://fayss.org/eventer/gotta-hand-it-to-you-hand-massages-4/
END:VEVENT
END:VCALENDAR
